BEGIN:VCALENDAR
VERSION:2.0
PRODID:spatie/icalendar-generator
DESCRIPTION:Events from Vauxhall Golf Club
X-WR-CALDESC:Events from Vauxhall Golf Club
REFRESH-INTERVAL;VALUE=DURATION:PT1440M
X-PUBLISHED-TTL:PT1440M
BEGIN:VTIMEZONE
TZID:America/Edmonton
BEGIN:STANDARD
DTSTART:20171105T020000Z
TZOFFSETFROM:-0600
TZOFFSETTO:-0700
END:STANDARD
BEGIN:DAYLIGHT
DTSTART:20180311T020000Z
TZOFFSETFROM:-0700
TZOFFSETTO:-0600
END:DAYLIGHT
BEGIN:STANDARD
DTSTART:20181104T020000Z
TZOFFSETFROM:-0600
TZOFFSETTO:-0700
END:STANDARD
END:VTIMEZONE
BEGIN:VTIMEZONE
TZID:UTC
BEGIN:STANDARD
DTSTART:20250725T013945Z
TZOFFSETFROM:+0000
TZOFFSETTO:+0000
END:STANDARD
END:VTIMEZONE
BEGIN:VEVENT
UID:35-13
DTSTAMP:20260421T013945Z
SUMMARY:Senior 2 Man Scramble
LOCATION:
ORGANIZER;CN=vauxhallgolf:MAILTO:vauxhallgolf@gmail.com
DTSTART;TZID=America/Edmonton;VALUE=DATE:20180524
DTEND;TZID=America/Edmonton;VALUE=DATE:20180525
X-ALT-DESC;FMTTYPE=TEXT/HTML:Senior 2 Man Scramble\, $100 per team
CATEGORIES:General
URL;VALUE=URI:
END:VEVENT
END:VCALENDAR