BEGIN:VCALENDAR
VERSION:2.0
PRODID:spatie/icalendar-generator
DESCRIPTION:Events from Vauxhall Golf Club
X-WR-CALDESC:Events from Vauxhall Golf Club
REFRESH-INTERVAL;VALUE=DURATION:PT1440M
X-PUBLISHED-TTL:PT1440M
BEGIN:VTIMEZONE
TZID:America/Edmonton
BEGIN:STANDARD
DTSTART:20181104T020000Z
TZOFFSETFROM:-0600
TZOFFSETTO:-0700
END:STANDARD
BEGIN:DAYLIGHT
DTSTART:20190310T020000Z
TZOFFSETFROM:-0700
TZOFFSETTO:-0600
END:DAYLIGHT
BEGIN:STANDARD
DTSTART:20191103T020000Z
TZOFFSETFROM:-0600
TZOFFSETTO:-0700
END:STANDARD
END:VTIMEZONE
BEGIN:VTIMEZONE
TZID:UTC
BEGIN:STANDARD
DTSTART:20250727T111637Z
TZOFFSETFROM:+0000
TZOFFSETTO:+0000
END:STANDARD
END:VTIMEZONE
BEGIN:VEVENT
UID:48-26
DTSTAMP:20260423T111637Z
SUMMARY:Harvey Blaney Memorial
LOCATION:
ORGANIZER;CN=vauxhallgolf:MAILTO:vauxhallgolf@gmail.com
DTSTART;TZID=America/Edmonton;VALUE=DATE:20190704
DTEND;TZID=America/Edmonton;VALUE=DATE:20190705
X-ALT-DESC;FMTTYPE=TEXT/HTML:$50\, 10am
CATEGORIES:General
URL;VALUE=URI:https://www.vauxhallgolf.com/mc-events/harvey-blaney-memorial
 -2/?mc_id=48
END:VEVENT
END:VCALENDAR